BEGIN:VCALENDAR
VERSION:2.0
PRODID:-//Mairie de Saint-Fortunat - ECPv6.10.2//NONSGML v1.0//EN
CALSCALE:GREGORIAN
METHOD:PUBLISH
X-ORIGINAL-URL:https://www.saint-fortunat-sur-eyrieux.fr
X-WR-CALDESC:Évènements pour Mairie de Saint-Fortunat
REFRESH-INTERVAL;VALUE=DURATION:PT1H
X-Robots-Tag:noindex
X-PUBLISHED-TTL:PT1H
BEGIN:VTIMEZONE
TZID:Europe/Paris
BEGIN:DAYLIGHT
TZOFFSETFROM:+0100
TZOFFSETTO:+0200
TZNAME:CEST
DTSTART:20250330T010000
END:DAYLIGHT
BEGIN:STANDARD
TZOFFSETFROM:+0200
TZOFFSETTO:+0100
TZNAME:CET
DTSTART:20251026T010000
END:STANDARD
END:VTIMEZONE
BEGIN:VEVENT
DTSTART;TZID=Europe/Paris:20250707T200000
DTEND;TZID=Europe/Paris:20250707T220000
DTSTAMP:20260423T143040
CREATED:20250619T085542Z
LAST-MODIFIED:20250619T085746Z
UID:10000077-1751918400-1751925600@www.saint-fortunat-sur-eyrieux.fr
SUMMARY:Réunion publique : placette\, place de l'Église et rue Rampon
DESCRIPTION:La municipalité vous invite à une réunion publique \n\n\n\n\n\n\n\n\nLundi 7 juillet 2025\n20 h – salle des Aymards\nafin de vous présenter les projets de la placette et de la refonte de la place de l’Église et de la rue Rampon. \nDes amendements seront possibles à l’issue de la rencontre.
URL:https://www.saint-fortunat-sur-eyrieux.fr/event/6326/
LOCATION:Salle des Aymards
CATEGORIES:Réunion publique
END:VEVENT
END:VCALENDAR