BEGIN:VCALENDAR
VERSION:2.0
PRODID:-//Mairie de Saint-Fortunat - ECPv6.10.2//NONSGML v1.0//EN
CALSCALE:GREGORIAN
METHOD:PUBLISH
X-ORIGINAL-URL:https://www.saint-fortunat-sur-eyrieux.fr
X-WR-CALDESC:Évènements pour Mairie de Saint-Fortunat
REFRESH-INTERVAL;VALUE=DURATION:PT1H
X-Robots-Tag:noindex
X-PUBLISHED-TTL:PT1H
BEGIN:VTIMEZONE
TZID:Europe/Paris
BEGIN:DAYLIGHT
TZOFFSETFROM:+0100
TZOFFSETTO:+0200
TZNAME:CEST
DTSTART:20250330T010000
END:DAYLIGHT
BEGIN:STANDARD
TZOFFSETFROM:+0200
TZOFFSETTO:+0100
TZNAME:CET
DTSTART:20251026T010000
END:STANDARD
END:VTIMEZONE
BEGIN:VEVENT
DTSTART;TZID=Europe/Paris:20250710T200000
DTEND;TZID=Europe/Paris:20250710T233000
DTSTAMP:20260423T142950
CREATED:20250617T104226Z
LAST-MODIFIED:20250710T100138Z
UID:10000069-1752177600-1752190200@www.saint-fortunat-sur-eyrieux.fr
SUMMARY:Randonnée Nocturne
DESCRIPTION:Jeudi 10 juillet \nRandonnée nocturne \n20 h – Ancienne gare de Saint-Laurent-du-Pape \nComme d’habitude\, le départ sera donné à l’ancienne gare de Saint-Laurent-du-Pape à partir de 20 h. En peloton\, ou en échappée\, vous emprunterez la Dolce Via sur 8 km jusqu’à Saint-Fortunat\, où une assiette du terroir et une animation musicale vous attendront au niveau du City Park. Un moment convivial à venir partager en famille ou entre amis. \nUn retour en navette gratuit jusqu’au point de départ sera mis en place. \nOrganisée en partenariat avec la commune de Saint-Laurent-du-Pape. \nN’oubliez pas les indispensables du randonneur : chaussures de marche ou paires de baskets\, vêtement chaud et/ou imperméable\, de l’eau . N’oubliez pas votre lampe torche ou lampe frontale ! \nTout public – 7 € adulte – 4 € moins de 12 ans. Inscription sur place dès 19 h.
URL:https://www.saint-fortunat-sur-eyrieux.fr/event/randonnee-nocturne/
LOCATION:Ancienne gare de Saint-Laurent-du-Pape\, Saint-Laurent-du-Pape\, 07800\, France
CATEGORIES:Evénementiels Mairie,Festivité
END:VEVENT
END:VCALENDAR