BEGIN:VCALENDAR
VERSION:2.0
PRODID:-//Mairie de Saint-Fortunat - ECPv6.10.2//NONSGML v1.0//EN
CALSCALE:GREGORIAN
METHOD:PUBLISH
X-WR-CALNAME:Mairie de Saint-Fortunat
X-ORIGINAL-URL:https://www.saint-fortunat-sur-eyrieux.fr
X-WR-CALDESC:Évènements pour Mairie de Saint-Fortunat
REFRESH-INTERVAL;VALUE=DURATION:PT1H
X-Robots-Tag:noindex
X-PUBLISHED-TTL:PT1H
BEGIN:VTIMEZONE
TZID:Europe/Paris
BEGIN:DAYLIGHT
TZOFFSETFROM:+0100
TZOFFSETTO:+0200
TZNAME:CEST
DTSTART:20250330T010000
END:DAYLIGHT
BEGIN:STANDARD
TZOFFSETFROM:+0200
TZOFFSETTO:+0100
TZNAME:CET
DTSTART:20251026T010000
END:STANDARD
END:VTIMEZONE
BEGIN:VEVENT
DTSTART;TZID=Europe/Paris:20250813T213000
DTEND;TZID=Europe/Paris:20250813T233000
DTSTAMP:20260423T161759
CREATED:20250617T145458Z
LAST-MODIFIED:20250710T100022Z
UID:10000074-1755120600-1755127800@www.saint-fortunat-sur-eyrieux.fr
SUMMARY:Cinéma en plein air
DESCRIPTION:Mercredi 13 août \nCinéma en plein-air \n21 h 30 – City Park \nPour cette deuxième séance de cinéma en plein air\, l’association Écran Village vous proposera « Dragons » de Dean DeBlois\, le film d’aventure fantastique adapté de la série éponyme. \n« Sur l’île escarpée de Beurk\, où depuis des générations\, Vikings et dragons s’affrontent sans merci\, Harold fait figure d’exception. Ce jeune homme rêveur et effacé défie des siècles de tradition en se liant d’amitié avec un dragon nommé Krokmou. » \nUne aventure à partager entre amis\, à la belle étoile. \nÀ partir de 7 ans – 6 € adulte – 4 € moins de 14 ans. Apportez vos couvertures et vos transats !
URL:https://www.saint-fortunat-sur-eyrieux.fr/event/cinema-en-plein-air-2/
LOCATION:City Park
CATEGORIES:Cinéma,Festivité
END:VEVENT
END:VCALENDAR