BEGIN:VCALENDAR
VERSION:2.0
PRODID:-//Mairie de Saint-Fortunat - ECPv6.10.2//NONSGML v1.0//EN
CALSCALE:GREGORIAN
METHOD:PUBLISH
X-ORIGINAL-URL:https://www.saint-fortunat-sur-eyrieux.fr
X-WR-CALDESC:Évènements pour Mairie de Saint-Fortunat
REFRESH-INTERVAL;VALUE=DURATION:PT1H
X-Robots-Tag:noindex
X-PUBLISHED-TTL:PT1H
BEGIN:VTIMEZONE
TZID:Europe/Paris
BEGIN:DAYLIGHT
TZOFFSETFROM:+0100
TZOFFSETTO:+0200
TZNAME:CEST
DTSTART:20240331T010000
END:DAYLIGHT
BEGIN:STANDARD
TZOFFSETFROM:+0200
TZOFFSETTO:+0100
TZNAME:CET
DTSTART:20241027T010000
END:STANDARD
END:VTIMEZONE
BEGIN:VEVENT
DTSTART;TZID=Europe/Paris:20241214T140000
DTEND;TZID=Europe/Paris:20241214T183000
DTSTAMP:20260419T153803
CREATED:20240919T082936Z
LAST-MODIFIED:20241220T144748Z
UID:10000062-1734184800-1734201000@www.saint-fortunat-sur-eyrieux.fr
SUMMARY:Fête de Noël
DESCRIPTION:Fête de Noël de Saint-Fortunat\, samedi 14 décembre\, place de l’église ! \nDès 14 h\, profitez du programme magique : marché artisanal\, manège\, château gonflable\, promenades en calèche\, papillotes\, rôtie de châtaignes et vin chaud offert par la municipalité. \nÀ 14 h 30\, à la salle des Aymards\, ne manquez pas « À ouvrir dans 3 jours »\, un spectacle qui vous fera voyager entre rêve et réalité ! \nÀ 15 h 30\, le père Noël descendra du ciel… EN TYROLIENNE ! \nEnfin\, à 17h \,c’est une véritable performance artistique et musicale de sculpture « à la tronçonneuse » qui enchantera les petits comme les grands ! \nVenez en famille pour vivre un après-midi féérique à Saint-Fortunat ! \nSpectacles et animations gratuites. \nPour plus de renseignements\, contactez Valentin à la mairie au 04 75 65 29 93. \n \n 
URL:https://www.saint-fortunat-sur-eyrieux.fr/event/fete-de-noel-5/
LOCATION:Place de l’Église\, Place de l'Église\, Saint-Fortunat-sur-Eyrieux\, 07360\, France
CATEGORIES:Enfance,Evénementiels Mairie,Festivité
END:VEVENT
END:VCALENDAR