BEGIN:VCALENDAR
VERSION:2.0
PRODID:-//Mairie de Saint-Fortunat - ECPv6.10.2//NONSGML v1.0//EN
CALSCALE:GREGORIAN
METHOD:PUBLISH
X-WR-CALNAME:Mairie de Saint-Fortunat
X-ORIGINAL-URL:https://www.saint-fortunat-sur-eyrieux.fr
X-WR-CALDESC:Évènements pour Mairie de Saint-Fortunat
REFRESH-INTERVAL;VALUE=DURATION:PT1H
X-Robots-Tag:noindex
X-PUBLISHED-TTL:PT1H
BEGIN:VTIMEZONE
TZID:Europe/Paris
BEGIN:DAYLIGHT
TZOFFSETFROM:+0100
TZOFFSETTO:+0200
TZNAME:CEST
DTSTART:20240331T010000
END:DAYLIGHT
BEGIN:STANDARD
TZOFFSETFROM:+0200
TZOFFSETTO:+0100
TZNAME:CET
DTSTART:20241027T010000
END:STANDARD
END:VTIMEZONE
BEGIN:VEVENT
DTSTART;TZID=Europe/Paris:20240801T190000
DTEND;TZID=Europe/Paris:20240801T233000
DTSTAMP:20260419T164945
CREATED:20240613T165738Z
LAST-MODIFIED:20240701T093331Z
UID:10000054-1722538800-1722555000@www.saint-fortunat-sur-eyrieux.fr
SUMMARY:Marché nocturne et moules-frites
DESCRIPTION:Pour la 13e édition\, les visiteurs pourront découvrir une trentaine de stands comprenant de la gastronomie\, des produits du terroir\, de l’artisanat\, de la confection\, des bijoux et des œuvres d’arts… Les rues du village se transformeront le temps d‘une soirée en une « fourmilière géante »\, avec des animations pour les enfants et des arts de rue. Les restaurateurs locaux et le camping s’associent à l’évènement en proposant les traditionnelles moules-frites\, servies en plein air au son de la fanfare « La Peña El Paso ». \nNouveauté 2024 : à 22 h\, l’équipe municipale proposera un feu d’artifice depuis la place Cassin pour vous mettre des étoiles plein les yeux. \nLa soirée finira en beauté avec un concert du Taraf de Beauchastel et leurs musiques Klezmer\, d’Europe de l’Est et d’Italie. Soyez prêts\, ça va swinguer ! \nDès à présent\, vous pouvez réserver les moules-frites auprès des restaurateurs : \nLe Touristique au 04 75 65 23 61\, Le Bistrot au 04 75 29 75 95\, le Camping « La Gare des Amis » au 04 75 65 22 80. \nTout public – Animations gratuites
URL:https://www.saint-fortunat-sur-eyrieux.fr/event/marche-nocturne-et-moules-frites/
LOCATION:De la place René Cassin à la place de l’Alambic
CATEGORIES:Evénementiels Mairie,Festivité,Gastronomie
END:VEVENT
END:VCALENDAR